BEGIN:VCALENDAR
VERSION:2.0
PRODID:-//Squarespace Inc/Squarespace 6//v6//EN
BEGIN:VEVENT
UID:57f466e66a496379abf67c6d@squarespace.com
DTSTAMP:20161005T025301Z
DTSTART:20161031T060000Z
DTEND:20161031T090000Z
SUMMARY:Trinity Hill Homage Dinner
END:VEVENT
END:VCALENDAR
